BEGIN:VCALENDAR
VERSION:2.0
METHOD:PUBLISH
BEGIN:VEVENT
DTSTART:20200321T103000
DTEND:20200321T110000
LOCATION:22 Egremont Street FITZROY NORTH, VIC 3068
TRANSP: OPAQUE
SEQUENCE:0
UID:
DTSTAMP:20200301T104905Z
SUMMARY:Home Open - A Fine Vintage
DESCRIPTION:This cute Edwardian single front home will appeal to the savvy investor or home buyer looking for that special property located in this illustrious Fitzroy North location.

Offering plenty of potential to put your own personal stamp on things while taking advantage of a true inner-city gem.

Close to all the fabulous amenities which the area is known for, including the iconic Piedimonte's supermarket, restaurants, cafes, tram ride into the city, bike paths and open green spaces of the Edinburgh Gardens.

Features include two good sized bedrooms, central lounge, bathroom/laundry, and kitchen leading out to a large rear yard with shed.
PRIORITY:1
CLASS:PUBLIC
BEGIN:VALARM
TRIGGER:-PT10080M
ACTION:DISPLAY
DESCRIPTION:Reminder
END:VALARM
END:VEVENT
END:VCALENDAR
