BEGIN:VCALENDAR
VERSION:2.0
METHOD:PUBLISH
BEGIN:VEVENT
DTSTART:20200311T173000
DTEND:20200311T180000
LOCATION:24 Egremont Street FITZROY NORTH, VIC 3068
TRANSP: OPAQUE
SEQUENCE:0
UID:
DTSTAMP:20200301T104139Z
SUMMARY:Home Open - Renovate or Rebuild in this blue chip precinct
DESCRIPTION:This kind of potential in such a great location is exciting and an opportunity not to be missed.

Sitting on 354m2 approx with a R.O.W allows for plenty of options when it comes to redeveloping or renovating S.T.C.A.

Featuring 4 generous bedrooms, massive open lounge/meal and kitchen, large bathroom, separate laundry and a great sized rear yard with garage.

An enviable locale presents itself with easy access to public transport, local schools, restaurants, cafes and the fantastic Edinburgh Gardens.
PRIORITY:1
CLASS:PUBLIC
BEGIN:VALARM
TRIGGER:-PT10080M
ACTION:DISPLAY
DESCRIPTION:Reminder
END:VALARM
END:VEVENT
END:VCALENDAR
